BEGIN:VCALENDAR
VERSION:2.0
PRODID:-//NPAC-AIIPC - ECPv6.15.20//NONSGML v1.0//EN
CALSCALE:GREGORIAN
METHOD:PUBLISH
X-WR-CALNAME:NPAC-AIIPC
X-ORIGINAL-URL:https://npac-aiipc.org
X-WR-CALDESC:Events for NPAC-AIIPC
REFRESH-INTERVAL;VALUE=DURATION:PT1H
X-Robots-Tag:noindex
X-PUBLISHED-TTL:PT1H
BEGIN:VTIMEZONE
TZID:America/Toronto
BEGIN:DAYLIGHT
TZOFFSETFROM:-0500
TZOFFSETTO:-0400
TZNAME:EDT
DTSTART:20230312T070000
END:DAYLIGHT
BEGIN:STANDARD
TZOFFSETFROM:-0400
TZOFFSETTO:-0500
TZNAME:EST
DTSTART:20231105T060000
END:STANDARD
BEGIN:DAYLIGHT
TZOFFSETFROM:-0500
TZOFFSETTO:-0400
TZNAME:EDT
DTSTART:20240310T070000
END:DAYLIGHT
BEGIN:STANDARD
TZOFFSETFROM:-0400
TZOFFSETTO:-0500
TZNAME:EST
DTSTART:20241103T060000
END:STANDARD
BEGIN:DAYLIGHT
TZOFFSETFROM:-0500
TZOFFSETTO:-0400
TZNAME:EDT
DTSTART:20250309T070000
END:DAYLIGHT
BEGIN:STANDARD
TZOFFSETFROM:-0400
TZOFFSETTO:-0500
TZNAME:EST
DTSTART:20251102T060000
END:STANDARD
BEGIN:DAYLIGHT
TZOFFSETFROM:-0500
TZOFFSETTO:-0400
TZNAME:EDT
DTSTART:20260308T070000
END:DAYLIGHT
BEGIN:STANDARD
TZOFFSETFROM:-0400
TZOFFSETTO:-0500
TZNAME:EST
DTSTART:20261101T060000
END:STANDARD
END:VTIMEZONE
BEGIN:VEVENT
DTSTART;TZID=America/Toronto:20250226T120000
DTEND;TZID=America/Toronto:20250226T130000
DTSTAMP:20260425T063917
CREATED:20250212T184032Z
LAST-MODIFIED:20250212T184036Z
UID:6034-1740571200-1740574800@npac-aiipc.org
SUMMARY:Vancouver Coastal Health's Virtual Open House for Nurse Practitioners
DESCRIPTION:Description\n\n\n\nInterested in becoming a Nurse Practitioner (NP) with Vancouver Coastal Health (VCH)? \n\n\n\nJoin us for an informative and interactive session to connect with the Nurse Practitioner Leadership Team and Medical Staff Talent Acquisition Advisors to learn about our post-graduate Advanced Education Programs and career opportunities across diverse practice settings. \n\n\n\nVCH has NPs working in over 150 positions across a variety of practice settings within acute\, primary care\, long-term care\, urgent and primary care centres\, and ambulatory care\, covering both urban and rural & remote areas\, and our workforce continues to grow. \n\n\n\nRegistration\n\n\n\nhttps://bit.ly/4gDIWtS
URL:https://npac-aiipc.org/event/vancouver-coastal-healths-virtual-open-house-for-nurse-practitioners/
CATEGORIES:Education
END:VEVENT
BEGIN:VEVENT
DTSTART;TZID=America/Toronto:20250219T170000
DTEND;TZID=America/Toronto:20250219T180000
DTSTAMP:20260425T063917
CREATED:20250127T212747Z
LAST-MODIFIED:20250127T212749Z
UID:5898-1739984400-1739988000@npac-aiipc.org
SUMMARY:Personal and Corporate Taxes for Professionals: Key matters that impact you
DESCRIPTION:Description\n\n\n\nPresented by: Marty Clement & Michael Saxe \n\n\n\nRegistration\n\n\n\nPlease click here to join the meeting
URL:https://npac-aiipc.org/event/personal-and-corporate-taxes-for-professionals-key-matters-that-impact-you/
END:VEVENT
BEGIN:VEVENT
DTSTART;TZID=America/Toronto:20250219T150000
DTEND;TZID=America/Toronto:20250219T160000
DTSTAMP:20260425T063917
CREATED:20250210T071028Z
LAST-MODIFIED:20250210T071051Z
UID:5985-1739977200-1739980800@npac-aiipc.org
SUMMARY:Provincial Nurse Practitioner Grand Rounds: The Clinician Scientist Role in Leadership: Collaboration\, Research\, and Impact of NPs
DESCRIPTION:Presented by Sarah Crowe \n\n\n\nSarah began her nursing career at Surrey Memorial Hospital in 2001\, starting in theEmergency department and transitioning to critical care in 2004. Holding dualspecialty certification in Emergency and Critical Care Nursing\, she attained aMaster’s of Nursing in 2010 and assumed leadership roles in Fraser Health. Sarahexpanded her expertise by completing a post-Master’s graduate diploma in NursePractitioner (family) in 2018\, establishing the Critical Care Nurse Practitioner role atSurrey Memorial Hospital. Currently pursuing a PhD in Nursing at UBC\, she serves asthe NP Clinician Scientist for Fraser Health\, focusing on advancing NP research andscholarship\, with personal research interests in ICU survivorship and supporting thewellbeing of healthcare teams. \n\n\n\nRegister here
URL:https://npac-aiipc.org/event/provincial-nurse-practitioner-grand-rounds-the-clinician-scientist-role-in-leadership-collaboration-research-and-impact-of-nps/
END:VEVENT
BEGIN:VEVENT
DTSTART;TZID=America/Toronto:20250213T120000
DTEND;TZID=America/Toronto:20250213T130000
DTSTAMP:20260425T063917
CREATED:20250210T062419Z
LAST-MODIFIED:20250210T062422Z
UID:5979-1739448000-1739451600@npac-aiipc.org
SUMMARY:Women and Chest Pain: Overcoming Barriers to Timely and Fair Emergency Care
DESCRIPTION:This webinar will focus on practical ways to support women in getting care sooner\, improving communication and triage processes in emergency departments\, and addressing the strain on our healthcare system to improve outcomes.  \n\n\n\nThere will be a live question and answer session at the end of the webinar\, allowing participants to ask questions directly to the panelists. \n\n\n\nRegister here.
URL:https://npac-aiipc.org/event/women-and-chest-pain-overcoming-barriers-to-timely-and-fair-emergency-care/
END:VEVENT
BEGIN:VEVENT
DTSTART;TZID=America/Toronto:20250212T170000
DTEND;TZID=America/Toronto:20250212T180000
DTSTAMP:20260425T063917
CREATED:20250127T212633Z
LAST-MODIFIED:20250127T212635Z
UID:5897-1739379600-1739383200@npac-aiipc.org
SUMMARY:Practice Management – key matters for success
DESCRIPTION:Description\n\n\n\nPresented by: Brian Welch & MNP client\, Dr. Sarah Smith​ \n\n\n\nRegistration\n\n\n\nPlease click here to join the meeting
URL:https://npac-aiipc.org/event/practice-management-key-matters-for-success/
END:VEVENT
BEGIN:VEVENT
DTSTART;TZID=America/Toronto:20250212T110000
DTEND;TZID=America/Toronto:20250212T120000
DTSTAMP:20260425T063917
CREATED:20250127T011132Z
LAST-MODIFIED:20250127T011134Z
UID:5813-1739358000-1739361600@npac-aiipc.org
SUMMARY:Responding and Caring for Victim-Survivors of Sexual Assault and Partner Violence
DESCRIPTION:Speaker: NP Hannah Varto \n\n\n\nNP Hannah Varto has been an NP for 18 years and has been providing specialty forensic-medical care for victim-survivors of interpersonal violence for most of her career. She led the creation of Canada’s first outpatient specialty clinic for people who have experienced recent interpersonal violence and has been providing care there for the past 10 years. In 2022 NP Varto added a Strangulation Clinic to the services her team offers to ensure victims of this serious act of violence have a place to receive specialty comprehensive assessments and care. To remain somewhat mentally well\, Hannah also offers episodic sexual health services for any person in her community in need of IUD or implant placement\, STI testing and treatment and medical termination of pregnancy. \n\n\n\nResearch has become a focus for Hannah over the past five years as she joined a team of researchers focused on seeking a blood test as a method of diagnosing concussions\, anoxic brain injuries and mental trauma following violence. As well\, she is involved in about ten data analysis projects examining trends in violence and outcomes across populations. NP Varto is also an instructor for a number of micro-credential courses and for parts of the core forensic nurse examiner training at BCIT in the Forensic Health Sciences program. She provides private medical-legal consulting in her “spare” time.
URL:https://npac-aiipc.org/event/responding-and-caring-for-victim-survivors-of-sexual-assault-and-partner-violence/
END:VEVENT
BEGIN:VEVENT
DTSTART;TZID=America/Toronto:20250205T170000
DTEND;TZID=America/Toronto:20250205T180000
DTSTAMP:20260425T063917
CREATED:20250127T212452Z
LAST-MODIFIED:20250127T212454Z
UID:5896-1738774800-1738778400@npac-aiipc.org
SUMMARY:Financial Planning for Nurse Practitioners throughout your career
DESCRIPTION:Description\n\n\n\nPresented by: Melissa Pelletier \n\n\n\nRegistration\n\n\n\nPlease click here to join the meeting
URL:https://npac-aiipc.org/event/financial-planning-for-nurse-practitioners-throughout-your-career/
END:VEVENT
BEGIN:VEVENT
DTSTART;TZID=America/Toronto:20250203T160000
DTEND;TZID=America/Toronto:20250203T173000
DTSTAMP:20260425T063917
CREATED:20250127T011715Z
LAST-MODIFIED:20250127T011719Z
UID:5815-1738598400-1738603800@npac-aiipc.org
SUMMARY:Members Town hall Meeting: Canada Health Act Interpretation Letter
DESCRIPTION:Join us for members only town hall meeting on the Canada Health Act Interpretation Letter. What does this mean for Nurse Practitioners? \n\n\n\nSpecial Guest: Steven Lewis – Health Policy and Research Consultation \n\n\n\nTo join the webinar check your email for invite.
URL:https://npac-aiipc.org/event/members-town-hall-meeting-canada-health-act-interpretation-letter/
END:VEVENT
BEGIN:VEVENT
DTSTART;TZID=America/Toronto:20250129T170000
DTEND;TZID=America/Toronto:20250129T180000
DTSTAMP:20260425T063917
CREATED:20250127T212349Z
LAST-MODIFIED:20250127T212351Z
UID:5895-1738170000-1738173600@npac-aiipc.org
SUMMARY:Incorporating your Practice: The benefits and when it makes sense for you
DESCRIPTION:Description\n\n\n\nPresented by: Sean Akeroyd \n\n\n\nRegistration\n\n\n\nPlease click here to join the meeting
URL:https://npac-aiipc.org/event/incorporating-your-practice-the-benefits-and-when-it-makes-sense-for-you/
END:VEVENT
BEGIN:VEVENT
DTSTART;TZID=America/Toronto:20241211T140000
DTEND;TZID=America/Toronto:20241211T150000
DTSTAMP:20260425T063917
CREATED:20241123T172135Z
LAST-MODIFIED:20241123T172137Z
UID:5146-1733925600-1733929200@npac-aiipc.org
SUMMARY:NPAC Grand Rounds: Developing a Provincial NP Research Portfolio: An Idea to Six Months in Action
DESCRIPTION:Speakers: Dr. Breanna Lloy\, DN\, RN-NP & NP Melanie Dunlop \n\n\n\nNon-members: Join the NPAC to participate \n\n\n\nNPAC members: Join NP Grand Rounds sessions via the Members Only page
URL:https://npac-aiipc.org/event/npac-grand-rounds-developing-a-provincial-np-research-portfolio-an-idea-to-six-months-in-action/
END:VEVENT
BEGIN:VEVENT
DTSTART;TZID=America/Toronto:20241201T190000
DTEND;TZID=America/Toronto:20241201T200000
DTSTAMP:20260425T063917
CREATED:20241123T171851Z
LAST-MODIFIED:20241123T171853Z
UID:5144-1733079600-1733083200@npac-aiipc.org
SUMMARY:RN to NP: Navigating Imposter Syndrome
DESCRIPTION:NPAC invites you to the second session of the RN to NP education series. This session is geared towards NP students and new graduates transitioning to practice.  \n\n\n\nThe session will be in English with AI translation to French available. The session will be recorded and available to NPAC members on the NPAC website. \n\n\n\n\nRegister
URL:https://npac-aiipc.org/event/rn-to-np-navigating-imposter-syndrome/
END:VEVENT
BEGIN:VEVENT
DTSTART;TZID=America/Toronto:20241130T080000
DTEND;TZID=America/Toronto:20241130T170000
DTSTAMP:20260425T063917
CREATED:20241030T173501Z
LAST-MODIFIED:20241030T173504Z
UID:4965-1732953600-1732986000@npac-aiipc.org
SUMMARY:Infectious Disease Summit
DESCRIPTION:Description\n\n\n\nHealthcare professionals are essential in managing infectious diseases\, and with the upcoming respiratory illness season and the rise of infections like COVID-19\, RSV\, Mpox\, and STIs\, staying informed has never been more important. \n\n\n\nJoin CSHP’s for our first-ever Infectious Disease Summit\, a one-day virtual event offering a comprehensive review of the latest advancements\, treatments\, and immunization updates in infectious disease management. \n\n\n\nEquip yourself with the knowledge and tools to stay at the forefront of care and enhance patient outcomes\, regardless of your practice setting. \n\n\n\nThis professional development opportunity is pending CCCEP accreditation of 6 CEUs. \n\n\n\nRegistration\n\n\n\nhttps://www.cshp.ca/Site/Site/Content/Professional-Development/IDS-2024.aspx
URL:https://npac-aiipc.org/event/infectious-disease-summit/
CATEGORIES:Meeting
END:VEVENT
BEGIN:VEVENT
DTSTART;TZID=America/Toronto:20241127T140000
DTEND;TZID=America/Toronto:20241127T190000
DTSTAMP:20260425T063917
CREATED:20241103T211914Z
LAST-MODIFIED:20241103T211916Z
UID:4986-1732716000-1732734000@npac-aiipc.org
SUMMARY:20th Annual Innovations in Palliative Care Virtual Conference
DESCRIPTION:The Division of Palliative Care in the Department of Family Medicine at McMaster University is pleased to present the 20th Annual Innovations in Palliative Care Virtual Conference. Pallium Canada is excited to be the delivery partner again this year as this fantastic event continues with an online format.Innovations in Palliative Care 2024: Is the best yet to come?Wednesday\, November 27\, 20242:00 p.m. to 7:00 p.m. ET
URL:https://npac-aiipc.org/event/20th-annual-innovations-in-palliative-care-virtual-conference/
END:VEVENT
BEGIN:VEVENT
DTSTART;TZID=America/Toronto:20241122T080000
DTEND;TZID=America/Toronto:20241123T170000
DTSTAMP:20260425T063917
CREATED:20240916T201049Z
LAST-MODIFIED:20240916T201051Z
UID:4557-1732262400-1732381200@npac-aiipc.org
SUMMARY:NLNPA Conference
DESCRIPTION:
URL:https://npac-aiipc.org/event/nlnpa-conference-2/
END:VEVENT
BEGIN:VEVENT
DTSTART;TZID=America/Toronto:20241122T080000
DTEND;TZID=America/Toronto:20241124T170000
DTSTAMP:20260425T063917
CREATED:20240914T114842Z
LAST-MODIFIED:20240914T114844Z
UID:4515-1732262400-1732467600@npac-aiipc.org
SUMMARY:Annual NLNPA Conference “Redefining Healthcare\, Together: Uniting Voices\, Igniting Change”
DESCRIPTION:
URL:https://npac-aiipc.org/event/annual-nlnpa-conference-redefining-healthcare-together-uniting-voices-igniting-change/
LOCATION:St. John’s\, Newfoundland
END:VEVENT
BEGIN:VEVENT
DTSTART;TZID=America/Toronto:20241121T080000
DTEND;TZID=America/Toronto:20241121T170000
DTSTAMP:20260425T063917
CREATED:20241121T165743Z
LAST-MODIFIED:20241121T165809Z
UID:5125-1732176000-1732208400@npac-aiipc.org
SUMMARY:Opioid Harms Response Community (OHRC) – Building cross-sectoral partnerships
DESCRIPTION:Description\n\n\n\nOHRC members are invited to attend quarterly webinars. These webinars are moderated by Health Canada and the Canadian Centre on Substance Use and Addiction and include presentations around a common theme.   \n\n\n\nWe are pleased to invite you to attend our upcoming December 3rd\, 2024\, event focused on working together to support localized\, community-based needs. \n\n\n\nWe hope you can join us for an interesting discussion around the theme\, Building cross-sectoral partnerships. The conversation will specifically explore knowledge\, best practices\, and practical lessons learned among community-level organizations to support community-level responses to the overdose crisis. We will hear from Seamus Murphy from Cochrane District Paramedic Service’s Scene First Directive in Ontario. We will also hear from Dr. Rob Boyd at Ottawa Inner City Health and their Block Leaders Program. \n\n\n\nThe webinar will include a moderated discussion with panelists responding to audience generated questions and comments. \n\n\n\n\n\n\n\nLes membres de la CIMO sont invités à participer à des webinaires trimestriels. Ces webinaires sont animés par Santé Canada et le Centre canadien sur les dépendances et l’usage de substances et comprennent des présentations autour d’un thème commun.   \n\n\n\nNous avons le plaisir de vous inviter à participer à notre prochain événement du 3 décembre 2024\, intitulé « Travailler ensemble pour soutenir les besoins locaux et communautaires ». \n\n\n\nNous espérons que vous pourrez vous joindre à nous pour une discussion intéressante autour sur le thème de construire des partenariats intersectoriels. La conversation explorera en particulier les connaissances\, les meilleures pratiques et les enseignements pratiques tirés par les organisations communautaires afin de soutenir les réponses communautaires à la crise des surdoses. Nous entendrons Seamus Murphy\, du service paramédical du district de Cochrane\, « Scene First Directive »\, en Ontario. Nous entendrons également le Dr Rob Boyd d’« Ottawa Inner City Health » et son programme « Block Leaders ». \n\n\n\nLe webinaire comprendra une discussion modérée avec les panélistes qui répondront aux questions et commentaires. \n\n\n\nRegistration\n\n\n\nhttps://hc-sc-gc-ca.zoom.us/j/67222306598 \n\n\n\nMeeting ID: 672 2230 6598 \n\n\n\nPasscode: 225148
URL:https://npac-aiipc.org/event/opioid-harms-response-community-ohrc-building-cross-sectoral-partnerships/
CATEGORIES:Education
END:VEVENT
BEGIN:VEVENT
DTSTART;TZID=America/Toronto:20241115T080000
DTEND;TZID=America/Toronto:20241116T170000
DTSTAMP:20260425T063917
CREATED:20240802T222406Z
LAST-MODIFIED:20240802T222412Z
UID:3914-1731657600-1731776400@npac-aiipc.org
SUMMARY:2024 SANP Annual Conference
DESCRIPTION:This annual conference is hosted by the Saskatchewan Association of Nurse Practitioners (SANP)and is the only conference in Saskatchewan that focuses on the nurse practitioner and their learning needs. The conference provides opportunity for professional development and education as well as networking with other nurse practitioners\, health care professionals and suppliers.The conference is open to NPs\, RNs\, and students interested in advance practice roles. SANP members receive a reduced rate on the conference fees. \n\n\n\n\n\nWhy Attend? \n\n\n\nThis conference provides you the opportunity to: \n\n\n\nNetwork with colleagues\, health care related exhibitors\, and representatives from SANP as well as unions\, and regulatory bodies \n\n\n\nHear from dynamic speakersLearn up to date recommendations relevant to everyday practice.  \n\n\n\nParticipate in decision making opportunities for the SANP \n\n\n\nCelebrate the great work that you and your colleagues are doing in the province! \n\n\n\nIf you have questions about the conference  \n\n\n\nContact Carol Tebay\, Conference Coordinator at carol@executivearrangements.ca  \n\n\n\nor 306-241-2308.
URL:https://npac-aiipc.org/event/2024-sanp-annual-conference/
CATEGORIES:Annual Conferences
END:VEVENT
BEGIN:VEVENT
DTSTART;TZID=America/Toronto:20241113T203000
DTEND;TZID=America/Toronto:20241113T213000
DTSTAMP:20260425T063917
CREATED:20241024T200118Z
LAST-MODIFIED:20241024T200120Z
UID:4877-1731529800-1731533400@npac-aiipc.org
SUMMARY:Methadone4Pain
DESCRIPTION:Description\n\n\n\nCanadian Virtual Hospice is hosting a free webinar with Dr. Pippa Hawley\, Medical Director\, Provincial Pain & Symptom Management/Palliative Care Program at BC Cancer on Wednesday\, November 13\, 2024\, from 8:30-9:30 pm ET. \n\n\n\nDr. Pippa Hawley will provide a brief description of the Methadone4Pain course and lead a discussion on participant’s questions about methadone prescribing. This webinar is of interest to those who are interested in taking the course and those who have completed the course and would like further information\, to ask a question or share their experience. \n\n\n\nRegistration\n\n\n\nPlease click here to register
URL:https://npac-aiipc.org/event/methadone4pain/
CATEGORIES:Education
END:VEVENT
BEGIN:VEVENT
DTSTART;TZID=America/Toronto:20241113T140000
DTEND;TZID=America/Toronto:20241113T150000
DTSTAMP:20260425T063917
CREATED:20241016T024514Z
LAST-MODIFIED:20241016T025040Z
UID:4816-1731506400-1731510000@npac-aiipc.org
SUMMARY:NPAC NP Grand Rounds: In the Shadows of Leadership: Illuminating the Loneliness Conundrum
DESCRIPTION:Join NP Grand Rounds\n\n\n\n\n\nSpeaker: NP Ranbir Atwal
URL:https://npac-aiipc.org/event/org-np-grand-rounds/
END:VEVENT
BEGIN:VEVENT
DTSTART;TZID=America/Toronto:20241110T080000
DTEND;TZID=America/Toronto:20241116T170000
DTSTAMP:20260425T063917
CREATED:20240914T120045Z
LAST-MODIFIED:20240914T120047Z
UID:4520-1731225600-1731776400@npac-aiipc.org
SUMMARY:National NP Week 2024
DESCRIPTION:Celebrate an NP or NP Student by nominating them for a national award.  \n\n\n\nCheck out the Awards/Scholarship section of the website for details \n\n\n\n\nAward Nominations
URL:https://npac-aiipc.org/event/national-np-week-2024/
END:VEVENT
BEGIN:VEVENT
DTSTART;TZID=America/Toronto:20241104T150000
DTEND;TZID=America/Toronto:20241104T163000
DTSTAMP:20260425T063917
CREATED:20241016T165422Z
LAST-MODIFIED:20241016T165425Z
UID:4828-1730732400-1730737800@npac-aiipc.org
SUMMARY:Government of Nunavut Virtual Healthcare Career Fair
DESCRIPTION:Description\n\n\n\nAn online career fair for all healthcare positions in Nunavut\, including Nurse Practitioners. Your skills are in high demand in Nunavut. Join our Virtual Career Fair on November 4\, 2024\, and discover how you can make a profound difference in a community. \n\n\n\nThis is more than a job; it’s a calling where adventure meets professional fulfillment \n\n\n\nRegistration\n\n\n\nhttps://bit.ly/NUHEALTHCAREERS4-24
URL:https://npac-aiipc.org/event/government-of-nunavut-virtual-healthcare-career-fair/
END:VEVENT
BEGIN:VEVENT
DTSTART;TZID=America/Toronto:20241029T080000
DTEND;TZID=America/Toronto:20241029T170000
DTSTAMP:20260425T063917
CREATED:20241029T162400Z
LAST-MODIFIED:20241029T162402Z
UID:4939-1730188800-1730221200@npac-aiipc.org
SUMMARY:Choosing Wisely Canada’s National Meeting
DESCRIPTION:Description\n\n\n\nMark your calendars for Choosing Wisely Canada’s National Meeting on May 26-27 in Winnipeg\, Manitoba! This two-day event held in collaboration with the Canadian Medical Association will showcase innovative Choosing Wisely initiatives and approaches to reducing overuse. \n\n\n\nFor more information\, please click here.
URL:https://npac-aiipc.org/event/choosing-wisely-canadas-national-meeting/
CATEGORIES:Meeting
END:VEVENT
BEGIN:VEVENT
DTSTART;TZID=America/Toronto:20241025T080000
DTEND;TZID=America/Toronto:20241025T170000
DTSTAMP:20260425T063917
CREATED:20240812T165208Z
LAST-MODIFIED:20240812T165455Z
UID:3978-1729843200-1729875600@npac-aiipc.org
SUMMARY:NPAM Conference 2024
DESCRIPTION:Come learn with us! \n\n\n\nWe look forward to celebrating NPs and learning together in-person.  \n\n\n\nPlanning has begun and we already have some great topics in store for you: menopause management\, insomnia\, cognitive assessments\, HIV\, common eye complaints\, with more topics to come as speakers are confirmed! (These could be subject to change.) \n\n\n\nWe also plan on a cocktail hour for the evening! A great opportunity to network with friends and colleagues. \n\n\n\nStay tuned for more information – registration will be opening at the end of July 2024. \n\n\n\nInterested in being a sponsor? \n\n\n\nView our 2024 Sponsor and Exhibitor prospectus to learn more about exhibit and sponsorship options for this conferenceor contact conference@nursepractitioner.ca
URL:https://npac-aiipc.org/event/npam-conference-2024/
END:VEVENT
BEGIN:VEVENT
DTSTART;TZID=America/Toronto:20241019T080000
DTEND;TZID=America/Toronto:20241019T170000
DTSTAMP:20260425T063917
CREATED:20240925T155238Z
LAST-MODIFIED:20240925T155243Z
UID:4671-1729324800-1729357200@npac-aiipc.org
SUMMARY:Skin Basics for Primary Care Conference
DESCRIPTION:Description\n\n\n\nJoin us at the Skin Basics for Primary Care conference\, a one-day program tailored for Primary Care Practitioners seeking to enhance their expertise in dermatological conditions. Participants will update their knowledge and skills for diagnosing and managing common skin diseases such as acne\, atopic dermatitis\, psoriasis\, melanoma\, hidradenitis suppurativa\, hair loss\, seborrheic dermatitis\, and a live injection demo.Registration is CAD$60+HST (lunch included\, early bird pricing before Oct 14\, 2024). Visit http://www.skinbasics.ca for program and hotel information. \n\n\n\nLocation\n\n\n\nMarriott Eaton Centre Hotel\, Toronto\, ON \n\n\n\nRegistration\n\n\n\nhttps://skinbasics.ca/
URL:https://npac-aiipc.org/event/skin-basics-for-primary-care-conference/
END:VEVENT
BEGIN:VEVENT
DTSTART;TZID=America/Toronto:20241016T080000
DTEND;TZID=America/Toronto:20241019T170000
DTSTAMP:20260425T063917
CREATED:20240827T183803Z
LAST-MODIFIED:20240827T183808Z
UID:4198-1729065600-1729357200@npac-aiipc.org
SUMMARY:CSIM Annual Meeting 2024
DESCRIPTION:Description\n\n\n\nThroughout the conference\, participants will hear from internationally recognized researchers\, educators\, and clinicians through a diverse program of workshops\, plenary sessions\, Top Five Papers\, and more. These sessions aim to cover the most current topics and issues relevant to physicians and other healthcare professionals in the field of General Internal Medicine. \n\n\n\nLocation\n\n\n\nHamilton\, ON \n\n\n\nRegistration\n\n\n\nhttps://csim.ca/education/conferences/csim-annual-meeting-2024
URL:https://npac-aiipc.org/event/csim-annual-meeting-2024-2/
END:VEVENT
BEGIN:VEVENT
DTSTART;TZID=America/Toronto:20241016T080000
DTEND;TZID=America/Toronto:20241019T170000
DTSTAMP:20260425T063917
CREATED:20240822T165007Z
LAST-MODIFIED:20240822T165025Z
UID:4101-1729065600-1729357200@npac-aiipc.org
SUMMARY:CSIM Annual Meeting 2024
DESCRIPTION:Description\n\n\n\nThroughout the conference\, participants will hear from internationally recognized researchers\, educators\, and clinicians through a diverse program of workshops\, plenary sessions\, Top Five Papers\, and more. These sessions aim to cover the most current topics and issues relevant to physicians and other healthcare professionals in the field of General Internal Medicine. \n\n\n\nRegistration\n\n\n\nhttps://csim.ca/education/conferences/csim-annual-meeting-2024/
URL:https://npac-aiipc.org/event/csim-annual-meeting-2024/
CATEGORIES:Annual Conferences
END:VEVENT
BEGIN:VEVENT
DTSTART;TZID=America/Toronto:20241016T080000
DTEND;TZID=America/Toronto:20241017T170000
DTSTAMP:20260425T063917
CREATED:20240812T164327Z
LAST-MODIFIED:20240812T164336Z
UID:3976-1729065600-1729184400@npac-aiipc.org
SUMMARY:Nurse Practitioners of New Brunswick Conference
DESCRIPTION:Check out the NPNB conference program for details \n\n\n\nhttps://www.npnb.ca/conference-2024
URL:https://npac-aiipc.org/event/nurse-practitioners-of-new-brunswick-conference/
END:VEVENT
BEGIN:VEVENT
DTSTART;TZID=America/Toronto:20241006T190000
DTEND;TZID=America/Toronto:20241006T200000
DTSTAMP:20260425T063917
CREATED:20241002T195426Z
LAST-MODIFIED:20241003T165614Z
UID:4724-1728241200-1728244800@npac-aiipc.org
SUMMARY:From RN to NP: Overcoming Challenges and Building Confidence
DESCRIPTION:NP Students and new grads – join us via Zoom for an exciting conversation about transitioning from RN to NP.
URL:https://npac-aiipc.org/event/from-rn-to-np-overcoming-challenges-and-building-confidence/
END:VEVENT
BEGIN:VEVENT
DTSTART;TZID=America/Toronto:20240925T080000
DTEND;TZID=America/Toronto:20240927T170000
DTSTAMP:20260425T063917
CREATED:20231220T040244Z
LAST-MODIFIED:20231220T040249Z
UID:3046-1727251200-1727456400@npac-aiipc.org
SUMMARY:NPAO Annual Conference 2024
DESCRIPTION:Check out the Nurse Practitioner Association of Ontario for further details:  \n\n\n\nwww.npao.org
URL:https://npac-aiipc.org/event/npao-annual-conference-2024/
END:VEVENT
BEGIN:VEVENT
DTSTART;TZID=America/Toronto:20240911T110000
DTEND;TZID=America/Toronto:20240911T120000
DTSTAMP:20260425T063917
CREATED:20240825T202258Z
LAST-MODIFIED:20240825T202308Z
UID:4151-1726052400-1726056000@npac-aiipc.org
SUMMARY:NPAC NP Grand Rounds
DESCRIPTION:Embracing Technological Advances to Align with New & Emerging Guidelines in Cancer Screening at the Primary Care Level \n\n\n\n\n\nSean Secord\, MN\, MBA\, CHE \n\n\n\nVice-President Clinical Engagement \n\n\n\nNanosticsdx
URL:https://npac-aiipc.org/event/npac-np-grand-rounds/
END:VEVENT
END:VCALENDAR