BEGIN:VCALENDAR
VERSION:2.0
PRODID:-//NPAC-AIIPC - ECPv6.15.20//NONSGML v1.0//EN
CALSCALE:GREGORIAN
METHOD:PUBLISH
X-ORIGINAL-URL:https://npac-aiipc.org
X-WR-CALDESC:Events for NPAC-AIIPC
REFRESH-INTERVAL;VALUE=DURATION:PT1H
X-Robots-Tag:noindex
X-PUBLISHED-TTL:PT1H
BEGIN:VTIMEZONE
TZID:America/Toronto
BEGIN:DAYLIGHT
TZOFFSETFROM:-0500
TZOFFSETTO:-0400
TZNAME:EDT
DTSTART:20240310T070000
END:DAYLIGHT
BEGIN:STANDARD
TZOFFSETFROM:-0400
TZOFFSETTO:-0500
TZNAME:EST
DTSTART:20241103T060000
END:STANDARD
BEGIN:DAYLIGHT
TZOFFSETFROM:-0500
TZOFFSETTO:-0400
TZNAME:EDT
DTSTART:20250309T070000
END:DAYLIGHT
BEGIN:STANDARD
TZOFFSETFROM:-0400
TZOFFSETTO:-0500
TZNAME:EST
DTSTART:20251102T060000
END:STANDARD
BEGIN:DAYLIGHT
TZOFFSETFROM:-0500
TZOFFSETTO:-0400
TZNAME:EDT
DTSTART:20260308T070000
END:DAYLIGHT
BEGIN:STANDARD
TZOFFSETFROM:-0400
TZOFFSETTO:-0500
TZNAME:EST
DTSTART:20261101T060000
END:STANDARD
BEGIN:DAYLIGHT
TZOFFSETFROM:-0500
TZOFFSETTO:-0400
TZNAME:EDT
DTSTART:20270314T070000
END:DAYLIGHT
BEGIN:STANDARD
TZOFFSETFROM:-0400
TZOFFSETTO:-0500
TZNAME:EST
DTSTART:20271107T060000
END:STANDARD
END:VTIMEZONE
BEGIN:VEVENT
DTSTART;TZID=America/Toronto:20251125T090000
DTEND;TZID=America/Toronto:20251125T123000
DTSTAMP:20260424T214957
CREATED:20250719T220409Z
LAST-MODIFIED:20250719T220413Z
UID:7237-1764061200-1764073800@npac-aiipc.org
SUMMARY:Canadian MAiD Curriculum - Topic 4: Assessing Capacity and Vulnerability (French session)
DESCRIPTION:Click here for details and registration
URL:https://npac-aiipc.org/event/canadian-maid-curriculum-topic-4-assessing-capacity-and-vulnerability-french-session/
END:VEVENT
BEGIN:VEVENT
DTSTART;TZID=America/Toronto:20251128T080000
DTEND;TZID=America/Toronto:20251129T160000
DTSTAMP:20260424T214957
CREATED:20250630T153417Z
LAST-MODIFIED:20250630T153421Z
UID:7062-1764316800-1764432000@npac-aiipc.org
SUMMARY:Therapeutics Initiative Annual Course 2025
DESCRIPTION:The 2025 edition of the TI Annual Course will be held this year as a virtual (online) event on November 28-29\, 2025. \n\n\n\nIn addition to presentations by our own faculty\, we have lined up an impressive group of speakers who will present on the following topics: \n\n\n\n\nSelf-diagnosis and diagnosis of ADHD in adults (Allison Harrison)\n\n\n\nPost-MI preventative treatments (Jamie Falk)\n\n\n\nTreating pain is harder than it looks (David Juurlink)\n\n\n\nMenopause (Ilana Lega)\n\n\n\nHighlights from PAD topics (Cait O’Sullivan)\n\n\n\n\nThe TI Annual Course 2025 will have 2 live sessions\, one in the afternoon of Friday\, November 28 and one in the morning of Saturday\, November 29. \n\n\n\nRegistration will open soon\, SAVE THE DATE in your calendar!
URL:https://npac-aiipc.org/event/therapeutics-initiative-annual-course-2025/
END:VEVENT
BEGIN:VEVENT
DTSTART;TZID=America/Toronto:20260410T070000
DTEND;TZID=America/Toronto:20260411T160000
DTSTAMP:20260424T214957
CREATED:20250520T154907Z
LAST-MODIFIED:20250520T154914Z
UID:6743-1775804400-1775923200@npac-aiipc.org
SUMMARY:3rd Annual NPAC Conference (Halifax\, Nova Scotia)
DESCRIPTION:
URL:https://npac-aiipc.org/event/3rd-annual-npac-conference-halifax-nova-scotia/
END:VEVENT
BEGIN:VEVENT
DTSTART;TZID=America/Toronto:20260914T020000
DTEND;TZID=America/Toronto:20260917T110000
DTSTAMP:20260424T214957
CREATED:20250704T215200Z
LAST-MODIFIED:20250707T191406Z
UID:7157-1789351200-1789642800@npac-aiipc.org
SUMMARY:14th ICN NP/APN Network Conference 2026
DESCRIPTION:The abstract submission portal is now live for the 2026 International Council of Nurses NP/APN Network Conference\, to be held September 14–17\, 2026\, in Nashville\, Tennessee. This global event is hosted by Vanderbilt University School of Nursing\, with the support and endorsement of the US National Nursing Association\, the American Nurses Association. \n\n\n\nThis conference marks the 25th anniversary of the ICN NP/APN Network—a significant milestone that will be celebrated with inspiring keynote speakers\, global collaborations\, and a renewed focus on innovation\, access\, and impact in advanced practice nursing worldwide.  \n\n\n\nLearn about the conference: https://icn-npapn-2026.com \n\n\n\n🟢 Submit abstracts here: https://icn.npapn2026.abstract📅 Submission deadline: October 1\, 2025 \n\n\n\nPlease continue to watch for upcoming announcements\, including reviewer recruitment\, registration updates\, and scientific program details. If you are interested in volunteering as a reviewer or onsite volunteer\, please enter your name and email here: Volunteer Sign-Up \n\n\n\n \n\n\n\n\n\nIndex
URL:https://npac-aiipc.org/event/14th-icn-np-apn-network-conference-2026/
END:VEVENT
END:VCALENDAR