BEGIN:VCALENDAR
VERSION:2.0
PRODID:-//NPAC-AIIPC - ECPv6.15.20//NONSGML v1.0//EN
CALSCALE:GREGORIAN
METHOD:PUBLISH
X-WR-CALNAME:NPAC-AIIPC
X-ORIGINAL-URL:https://npac-aiipc.org
X-WR-CALDESC:Events for NPAC-AIIPC
REFRESH-INTERVAL;VALUE=DURATION:PT1H
X-Robots-Tag:noindex
X-PUBLISHED-TTL:PT1H
BEGIN:VTIMEZONE
TZID:America/Toronto
BEGIN:DAYLIGHT
TZOFFSETFROM:-0500
TZOFFSETTO:-0400
TZNAME:EDT
DTSTART:20200308T070000
END:DAYLIGHT
BEGIN:STANDARD
TZOFFSETFROM:-0400
TZOFFSETTO:-0500
TZNAME:EST
DTSTART:20201101T060000
END:STANDARD
BEGIN:DAYLIGHT
TZOFFSETFROM:-0500
TZOFFSETTO:-0400
TZNAME:EDT
DTSTART:20210314T070000
END:DAYLIGHT
BEGIN:STANDARD
TZOFFSETFROM:-0400
TZOFFSETTO:-0500
TZNAME:EST
DTSTART:20211107T060000
END:STANDARD
BEGIN:DAYLIGHT
TZOFFSETFROM:-0500
TZOFFSETTO:-0400
TZNAME:EDT
DTSTART:20220313T070000
END:DAYLIGHT
BEGIN:STANDARD
TZOFFSETFROM:-0400
TZOFFSETTO:-0500
TZNAME:EST
DTSTART:20221106T060000
END:STANDARD
BEGIN:DAYLIGHT
TZOFFSETFROM:-0500
TZOFFSETTO:-0400
TZNAME:EDT
DTSTART:20230312T070000
END:DAYLIGHT
BEGIN:STANDARD
TZOFFSETFROM:-0400
TZOFFSETTO:-0500
TZNAME:EST
DTSTART:20231105T060000
END:STANDARD
END:VTIMEZONE
BEGIN:VEVENT
DTSTART;TZID=America/Toronto:20220621T080000
DTEND;TZID=America/Toronto:20220626T170000
DTSTAMP:20260425T063422
CREATED:20220302T185520Z
LAST-MODIFIED:20220302T185524Z
UID:2049-1655798400-1656262800@npac-aiipc.org
SUMMARY:2022 AANP National Conference — In Person
DESCRIPTION:Join AANP for the 2022 AANP National Conference in Orlando\, Florida\n\n\n\nOrlando\, FloridaCE: Up to 38 contact hoursJoin the American Association of Nurse Practitioners® (AANP) in sunny Orlando\, Florida\, for the largest nurse practitioner (NP) conference in the United States! Attend for a week filled with continuing education (CE)\, exclusive keynote speakers\, legislative and policy updates\, hands-on workshops\, lively exhibitors and much more. Plus\, you’ll have limitless opportunities for networking and fun with NPs of every specialty and practice setting. Registrants for the in-person conference will also receive access to the 2022 AANP National Conference on-demand package at no extra charge! \n\n\n\nRegister Now
URL:https://npac-aiipc.org/event/2022-aanp-national-conference-in-person/
END:VEVENT
BEGIN:VEVENT
DTSTART;TZID=America/Toronto:20220609T080000
DTEND;TZID=America/Toronto:20220611T170000
DTSTAMP:20260425T063422
CREATED:20220302T185635Z
LAST-MODIFIED:20220302T185644Z
UID:2051-1654761600-1654966800@npac-aiipc.org
SUMMARY:2022 Nurses & Nurse Practitioners of BC Conference
DESCRIPTION:Join NNPBC for the 2022 Conference in Richmond\, British Columbia \n\n\n\nPlease join us for the 16th Annual NP Conference at the Sheraton Vancouver Airport Hotel\, in Richmond\, BC. Our goal is to provide NPs with 3 days of opportunities for professional growth and practice\, to address interesting and educational topics\, and give you the opportunity to network with your colleagues from around the province \n\n\n\nRegistration click here
URL:https://npac-aiipc.org/event/2022-nurses-nurse-practitioners-of-bc-conference/
END:VEVENT
BEGIN:VEVENT
DTSTART;TZID=America/Toronto:20220601T190000
DTEND;TZID=America/Toronto:20220601T203000
DTSTAMP:20260425T063422
CREATED:20220414T170445Z
LAST-MODIFIED:20220414T170449Z
UID:2145-1654110000-1654115400@npac-aiipc.org
SUMMARY:MAiD Research Forum
DESCRIPTION:https://camapcanada.ca/clinicians/education-new/spring22/
URL:https://npac-aiipc.org/event/maid-research-forum/
END:VEVENT
BEGIN:VEVENT
DTSTART;TZID=America/Toronto:20220601T120000
DTEND;TZID=America/Toronto:20220601T130000
DTSTAMP:20260425T063422
CREATED:20220414T170626Z
LAST-MODIFIED:20220414T170630Z
UID:2147-1654084800-1654088400@npac-aiipc.org
SUMMARY:Health Canada presents: Review of the proposed revised federal MAiD reporting regulations
DESCRIPTION:Due to the importance of this topic\, this event will be FREE for all participants. Please note that this event runs earlier in the day than all other events. \n\n\n\nhttps://camapcanada.ca/clinicians/education-new/spring22/
URL:https://npac-aiipc.org/event/health-canada-presents-review-of-the-proposed-revised-federal-maid-reporting-regulations/
END:VEVENT
BEGIN:VEVENT
DTSTART;TZID=America/Toronto:20220525T190000
DTEND;TZID=America/Toronto:20220525T203000
DTSTAMP:20260425T063422
CREATED:20220414T170348Z
LAST-MODIFIED:20220414T170351Z
UID:2143-1653505200-1653510600@npac-aiipc.org
SUMMARY:MAiD in Dementia
DESCRIPTION:https://camapcanada.ca/clinicians/education-new/spring22/
URL:https://npac-aiipc.org/event/maid-in-dementia/
END:VEVENT
BEGIN:VEVENT
DTSTART;TZID=America/Toronto:20220511T190000
DTEND;TZID=America/Toronto:20220511T203000
DTSTAMP:20260425T063422
CREATED:20220414T170256Z
LAST-MODIFIED:20220414T170301Z
UID:2141-1652295600-1652301000@npac-aiipc.org
SUMMARY:Avoiding a Bad MAiD Experience
DESCRIPTION:https://camapcanada.ca/clinicians/education-new/spring22/
URL:https://npac-aiipc.org/event/avoiding-a-bad-maid-experience/
END:VEVENT
BEGIN:VEVENT
DTSTART;TZID=America/Toronto:20220427T190000
DTEND;TZID=America/Toronto:20220427T203000
DTSTAMP:20260425T063422
CREATED:20220414T170145Z
LAST-MODIFIED:20220414T170148Z
UID:2139-1651086000-1651091400@npac-aiipc.org
SUMMARY:Mental Illness and MAiD
DESCRIPTION:Legal aspects and how to cope with difficult assessments \n\n\n\nRegistration\n\n\n\nhttps://camapcanada.ca/clinicians/education-new/spring22/
URL:https://npac-aiipc.org/event/mental-illness-and-maid/
END:VEVENT
BEGIN:VEVENT
DTSTART;TZID=America/Toronto:20220329T180000
DTEND;TZID=America/Toronto:20220329T190000
DTSTAMP:20260425T063422
CREATED:20220302T185834Z
LAST-MODIFIED:20220302T185838Z
UID:2055-1648576800-1648580400@npac-aiipc.org
SUMMARY:Medication Abortion Training for Nurse Practitioners
DESCRIPTION:The National Abortion Federation (NAF) Canada invites you to participate in an online training on medication abortion for nurse practitioners. The training consists of 6 self-paced modules and a live Q&A session at 6:00 pm ET on March 29th. Topics covered include medication abortion protocols\, patient-centered counselling\, and how to implement medication abortion in primary care settings. Registration fees are $50 for NPs and $25 for students. \n\n\n\nRegistration Details to follow
URL:https://npac-aiipc.org/event/medication-abortion-training-for-nurse-practitioners/
END:VEVENT
BEGIN:VEVENT
DTSTART;TZID=America/Toronto:20220309T120000
DTEND;TZID=America/Toronto:20220309T130000
DTSTAMP:20260425T063422
CREATED:20220302T190105Z
LAST-MODIFIED:20220302T190111Z
UID:2059-1646827200-1646830800@npac-aiipc.org
SUMMARY:Breaking Up Can Be Hard To Do: Practical approaches to how and when to stop antidepressants in primary care
DESCRIPTION:SPEAKER: Dr. Dee Mangin\, David Braley Chair in Family Medicine at McMaster University\, Associate Chair (Research)\, and Professor in the Department of Family Medicine at McMaster University\, and Director of MUSIC\, the McMaster University Sentinel and Information Collaboration practice-based research network. \n\n\n\nDATE: Wednesday\, March 9\, 2022 \n\n\n\nTIME: 12:00 – 13:00 Pacific Time PST [convert to your local time] \n\n\n\nCME CREDITS: MainPro+/MOC Section 1 credits: 1.0. You must register\, attend the webinar and complete the evaluation in order to receive your certificate. \n\n\n\n\n\n\n\nLEARNING OBJECTIVES \n\n\n\nThis session will help participants: \n\n\n\nUnderstand the evidence around maintenance and discontinuation of antidepressants in primary careUnderstand the evidence around how and when to stop antidepressantsGain practical tips and helpful other management strategies in stopping antidepressants\n\n\n\nRead the full details… \n\n\n\nREGISTER NOW
URL:https://npac-aiipc.org/event/breaking-up-can-be-hard-to-do-practical-approaches-to-how-and-when-to-stop-antidepressants-in-primary-care/
END:VEVENT
BEGIN:VEVENT
DTSTART;TZID=America/Toronto:20220306T150000
DTEND;TZID=America/Toronto:20220306T160000
DTSTAMP:20260425T063422
CREATED:20220302T185943Z
LAST-MODIFIED:20220302T185948Z
UID:2057-1646578800-1646582400@npac-aiipc.org
SUMMARY:2022 NPAC-AIIPC Annual General Meeting
DESCRIPTION:Registration and Membership with NPAC-AIIPC required to attend. \n\n\n\nRegister in advance is required for this meeting:https://us06web.zoom.us/meeting/register/tZ0qcOGsqTktHtP4fTZ2J38ti46MpSHq7nkf  \n\n\n\nAfter registering\, you will receive a confirmation email containing information about joining the meeting
URL:https://npac-aiipc.org/event/2022-npac-aiipc-annual-general-meeting/
END:VEVENT
BEGIN:VEVENT
DTSTART;TZID=America/Toronto:20211221T193000
DTEND;TZID=America/Toronto:20211221T210000
DTSTAMP:20260425T063422
CREATED:20210807T172830Z
LAST-MODIFIED:20210807T172834Z
UID:1892-1640115000-1640120400@npac-aiipc.org
SUMMARY:NP Council Meeting
DESCRIPTION:Meeting of provincial and territorial NP association partners
URL:https://npac-aiipc.org/event/np-council-meeting-3/
END:VEVENT
BEGIN:VEVENT
DTSTART;TZID=America/Toronto:20211022T080000
DTEND;TZID=America/Toronto:20211023T160000
DTSTAMP:20260425T063422
CREATED:20210823T165548Z
LAST-MODIFIED:20210823T165550Z
UID:1897-1634889600-1635004800@npac-aiipc.org
SUMMARY:Nancy Wright Virtual Learning Series
DESCRIPTION:Virtual Learning Series Hosted by Nurses and Nurse Practitioners of British Columbia \n\n\n\nRegistration\n\n\n\nYou must register and pay the registration fee in order to attend this conference. Registration fees must be paid by credit card (Visa or MasterCard) in full at time of registration. All fees are subject to 5% GST. Upon completion of the online registration process\, you registration will be acknowledged by email.  \n\n\n\n\n\n\n\n\n\n\n\nINCLUSIONSRegistration to the Nancy Wright Virtual Learning Series includes the following: \n\n\n\nAccess to all industry-sponsored and regular sessionsAccess to all recordings of sessionsAccess to presentation slides\, handouts and other documents for download where provided by presentersAccess to exhibitor and sponsor booths and material as providedParticipation in prize drawOption to exchange contact details with other attendees\, presenters\, sponsors and exhibitors.\n\n\n\nCANCELLATIONSRequests to cancel a registration must be sent in writing to nnpbc-conference@venuewest.com and are subject to a $25 administrative fee if received by October 12\, 2021. Refunds will not be issued after that date.  \n\n\n\nSUBSTITUTIONSSubstitutions can be made free of charge until October 15\, 2021. As of October 16\, 2021\, requests for substitutions will be subject to a $25 administration fee. Please email your request to nnpbc-conference@venuewest.com.
URL:https://npac-aiipc.org/event/nancy-wright-virtual-learning-series/
END:VEVENT
BEGIN:VEVENT
DTSTART;TZID=America/Toronto:20211019T193000
DTEND;TZID=America/Toronto:20211019T210000
DTSTAMP:20260425T063422
CREATED:20210807T172554Z
LAST-MODIFIED:20210807T172628Z
UID:1890-1634671800-1634677200@npac-aiipc.org
SUMMARY:NP Council Meeting
DESCRIPTION:Meeting of provincial and territorial NP association partners
URL:https://npac-aiipc.org/event/np-council-meeting-2/
END:VEVENT
BEGIN:VEVENT
DTSTART;TZID=America/Toronto:20210930T000000
DTEND;TZID=America/Toronto:20211001T235959
DTSTAMP:20260425T063422
CREATED:20210613T193221Z
LAST-MODIFIED:20210613T193225Z
UID:1864-1632960000-1633132799@npac-aiipc.org
SUMMARY:NPAO 2021 Virtual Annual Conference
DESCRIPTION:Nurse Practitioners: Solutions for a Stronger and Healthier Ontario
URL:https://npac-aiipc.org/event/npao-2021-virtual-annual-conference/
END:VEVENT
BEGIN:VEVENT
DTSTART;TZID=America/Toronto:20210829T000000
DTEND;TZID=America/Toronto:20210901T235959
DTSTAMP:20260425T063422
CREATED:20210613T191318Z
LAST-MODIFIED:20210613T191654Z
UID:1854-1630195200-1630540799@npac-aiipc.org
SUMMARY:11th International Council of Nurses' NP/APN Network Conference
DESCRIPTION:Envisioning advanced practice nursing beyond 2021: Wider Reach\, Bigger Impact
URL:https://npac-aiipc.org/event/11th-international-council-of-nurses-np-apn-network-conference/
CATEGORIES:Annual Conferences
END:VEVENT
BEGIN:VEVENT
DTSTART;TZID=America/Toronto:20210817T193000
DTEND;TZID=America/Toronto:20210817T210000
DTSTAMP:20260425T063422
CREATED:20210807T171807Z
LAST-MODIFIED:20210807T171810Z
UID:1886-1629228600-1629234000@npac-aiipc.org
SUMMARY:NP Council Meeting
DESCRIPTION:Meeting of provincial and territorial NP association partners
URL:https://npac-aiipc.org/event/np-council-meeting/
END:VEVENT
BEGIN:VEVENT
DTSTART;TZID=America/Toronto:20210810T190000
DTEND;TZID=America/Toronto:20210810T200000
DTSTAMP:20260425T063422
CREATED:20210807T172202Z
LAST-MODIFIED:20210807T172205Z
UID:1888-1628622000-1628625600@npac-aiipc.org
SUMMARY:NPAC-AIIPC Board of Directors Meeting
DESCRIPTION:
URL:https://npac-aiipc.org/event/npac-aiipc-board-of-directors-meeting/
END:VEVENT
BEGIN:VEVENT
DTSTART;TZID=America/Toronto:20210611T080000
DTEND;TZID=America/Toronto:20210612T170000
DTSTAMP:20260425T063422
CREATED:20210610T162607Z
LAST-MODIFIED:20210610T162848Z
UID:1828-1623398400-1623517200@npac-aiipc.org
SUMMARY:NNPBC NP Conference
DESCRIPTION:Description\n\n\n\nNNPBC invites you to join us at our annual conference! \n\n\n\nhttps://www.nnpbc.com/events/2021-np-conference/
URL:https://npac-aiipc.org/event/nnpbc-np-conference/
CATEGORIES:Annual Conferences
END:VEVENT
END:VCALENDAR